BEGIN:VCALENDAR
VERSION:2.0
PRODID:-//Tukios.com/
BEGIN:VEVENT
UID:4f77fcc2-efe6-4473-b514-3805a9aabb93@www.houseofangelsfh.com
DTSTAMP:20260422T203051Z
DTSTART:20260425T000000Z
DTEND:20260425T010000Z
SUMMARY:Rosary
DESCRIPTION:
URL:https://www.houseofangelsfh.com/obituaries/christina-martinez
LOCATION: 1120 52nd Street  Lubbock TX 79412
GEO:33.5472647;-101.847976
END:VEVENT
END:VCALENDAR